BEGIN:VCALENDAR
VERSION:2.0
PRODID:-//wp-events-plugin.com//7.2.3.1//EN
TZID:Europe/Berlin
X-WR-TIMEZONE:Europe/Berlin
BEGIN:VEVENT
UID:1273@erstehilfe-kurse.eu
DTSTART;TZID=Europe/Berlin:20260101T093000
DTEND;TZID=Europe/Berlin:20261231T170000
DTSTAMP:20251127T155727Z
URL:https://erstehilfe-kurse.eu/event-recurring/erste-hilfe-kurs-samstag-f
 riedberg-3/
SUMMARY:Erste Hilfe Kurs Samstag Friedberg
DESCRIPTION:
LOCATION:Friedberg\, Am Seebach 2\, Friedberg\, Hessen\, 61169\, Georg-Augu
 st-Zinn-Halle (Stadthalle Friedberg) Clubraum 3\, Deutschland
X-APPLE-STRUCTURED-LOCATION;VALUE=URI;X-ADDRESS=Am Seebach 2\, Friedberg\, 
 Hessen\, 61169\, Georg-August-Zinn-Halle (Stadthalle Friedberg) Clubraum 3
 \, Deutschland;X-APPLE-RADIUS=100;X-TITLE=Friedberg:geo:0,0
END:VEVENT
BEGIN:VTIMEZONE
TZID:Europe/Berlin
X-LIC-LOCATION:Europe/Berlin
BEGIN:STANDARD
DTSTART:20251026T020000
TZOFFSETFROM:+0200
TZOFFSETTO:+0100
TZNAME:CET
END:STANDARD
BEGIN:DAYLIGHT
DTSTART:20260329T030000
TZOFFSETFROM:+0100
TZOFFSETTO:+0200
TZNAME:CEST
END:DAYLIGHT
BEGIN:STANDARD
DTSTART:20261025T020000
TZOFFSETFROM:+0200
TZOFFSETTO:+0100
TZNAME:CET
END:STANDARD
END:VTIMEZONE
END:VCALENDAR