BEGIN:VCALENDAR
VERSION:2.0
PRODID:-//wp-events-plugin.com//7.2.3.1//EN
TZID:Europe/Berlin
X-WR-TIMEZONE:Europe/Berlin
BEGIN:VEVENT
UID:1876@erstehilfe-kurse.eu
DTSTART;TZID=Europe/Berlin:20261011T100000
DTEND;TZID=Europe/Berlin:20261011T173000
DTSTAMP:20260303T163937Z
URL:https://erstehilfe-kurse.eu/kurse/erste-hilfe-kurs-sonntag-frankfurt-h
 oechst-2026-10-11/
SUMMARY:Erste Hilfe Kurs Sonntag Frankfurt Höchst
DESCRIPTION:
LOCATION:Frankfurt Höchst\, Mainberg 3 - 11\, Frankfurt Höchst\, Hessen\,
  65929\, Tagungshotel Höchster Hof\, Deutschland
X-APPLE-STRUCTURED-LOCATION;VALUE=URI;X-ADDRESS=Mainberg 3 - 11\, Frankfurt
  Höchst\, Hessen\, 65929\, Tagungshotel Höchster Hof\, Deutschland;X-APP
 LE-RADIUS=100;X-TITLE=Frankfurt Höchst:geo:0,0
END:VEVENT
BEGIN:VTIMEZONE
TZID:Europe/Berlin
X-LIC-LOCATION:Europe/Berlin
BEGIN:DAYLIGHT
DTSTART:20260329T030000
TZOFFSETFROM:+0100
TZOFFSETTO:+0200
TZNAME:CEST
END:DAYLIGHT
END:VTIMEZONE
END:VCALENDAR